BEGIN:VCALENDAR
VERSION:2.0
PRODID:-//ENGELsART  - ECPv6.15.17//NONSGML v1.0//EN
CALSCALE:GREGORIAN
METHOD:PUBLISH
X-ORIGINAL-URL:https://engelsart.de
X-WR-CALDESC:Veranstaltungen für ENGELsART 
REFRESH-INTERVAL;VALUE=DURATION:PT1H
X-Robots-Tag:noindex
X-PUBLISHED-TTL:PT1H
BEGIN:VTIMEZONE
TZID:Europe/Berlin
BEGIN:DAYLIGHT
TZOFFSETFROM:+0100
TZOFFSETTO:+0200
TZNAME:CEST
DTSTART:20250330T010000
END:DAYLIGHT
BEGIN:STANDARD
TZOFFSETFROM:+0200
TZOFFSETTO:+0100
TZNAME:CET
DTSTART:20251026T010000
END:STANDARD
BEGIN:DAYLIGHT
TZOFFSETFROM:+0100
TZOFFSETTO:+0200
TZNAME:CEST
DTSTART:20260329T010000
END:DAYLIGHT
BEGIN:STANDARD
TZOFFSETFROM:+0200
TZOFFSETTO:+0100
TZNAME:CET
DTSTART:20261025T010000
END:STANDARD
BEGIN:DAYLIGHT
TZOFFSETFROM:+0100
TZOFFSETTO:+0200
TZNAME:CEST
DTSTART:20270328T010000
END:DAYLIGHT
BEGIN:STANDARD
TZOFFSETFROM:+0200
TZOFFSETTO:+0100
TZNAME:CET
DTSTART:20271031T010000
END:STANDARD
END:VTIMEZONE
BEGIN:VEVENT
DTSTART;TZID=Europe/Berlin:20260221T193000
DTEND;TZID=Europe/Berlin:20260221T220000
DTSTAMP:20260421T023622
CREATED:20260106T142157Z
LAST-MODIFIED:20260209T113352Z
UID:2524-1771702200-1771711200@engelsart.de
SUMMARY:EA Jazz-Club   "eden west"
DESCRIPTION:Nachdem „eden west“ in Zusammenarbeit mit DeutschlandRadio Kultur und Deutsche Austrophon ihr erstes Album „Auszeit“ veröffentlicht hatten\, haben die 3 Musiker um Sängerin Claudia Hansen immer wieder aktuelle Songs aus den Charts in ein „jazziges“ Gewand gepackt.Neben ihren eigenen Songs\,traditionellen Jazzstandarts und Latin Klängen\, ist so ein sehr abwechslungsreiches Programm für den Zuhörer durch das Zusammenspiel von Pianist Didi Hamann\,Bassist Helmut Klein und Drummer Jörn Beckesch entstanden. \n\n\n\nFür „eden west“ gibt es keine musikalischen Barrieren\,derzeit entsteht im Studio wieder ein deutschsprachiges Album mit Ausflügen zu  Hop und Pop. \n\n\n\nunverbindliche Reservierung unter: veranstaltung@engelsart.de
URL:https://engelsart.de/veranstaltung/ea-jazz-club-eden-west/
CATEGORIES:Konzert
ATTACH;FMTTYPE=image/jpeg:https://engelsart.de/wp-content/uploads/2026/01/8c8d9883-4580-45c8-9b49-a937b83f98f3.jpeg
END:VEVENT
BEGIN:VEVENT
DTSTART;TZID=Europe/Berlin:20260222T110000
DTEND;TZID=Europe/Berlin:20260315T130000
DTSTAMP:20260421T023622
CREATED:20260124T115453Z
LAST-MODIFIED:20260205T142742Z
UID:2607-1771758000-1773579600@engelsart.de
SUMMARY:Vernissage zur Ausstellung   "Ächt tierisch"
DESCRIPTION:Kunstausstellung vom 22.2.2026 bis 15.3.2026 im Alten Baumwolllager\, direkt neben dem Rathaus Engelskirchen.   \n\n\n\n\n\n\n\nBerret Smith\, Rolf Baldsiefen\, Peter Leins\, Daniel Nöllgen\, Renate Seinsch (v.l.n.r.)
URL:https://engelsart.de/veranstaltung/vernissage-zur-ausstellung-aecht-tierisch/
ATTACH;FMTTYPE=image/jpeg:https://engelsart.de/wp-content/uploads/2026/01/Aecht-tierisch-fuer-Presse.jpg
END:VEVENT
END:VCALENDAR