BEGIN:VCALENDAR
VERSION:2.0
PRODID:-//ENGELsART  - ECPv6.15.17//NONSGML v1.0//EN
CALSCALE:GREGORIAN
METHOD:PUBLISH
X-WR-CALNAME:ENGELsART 
X-ORIGINAL-URL:https://engelsart.de
X-WR-CALDESC:Veranstaltungen für ENGELsART 
REFRESH-INTERVAL;VALUE=DURATION:PT1H
X-Robots-Tag:noindex
X-PUBLISHED-TTL:PT1H
BEGIN:VTIMEZONE
TZID:Europe/Berlin
BEGIN:DAYLIGHT
TZOFFSETFROM:+0100
TZOFFSETTO:+0200
TZNAME:CEST
DTSTART:20240331T010000
END:DAYLIGHT
BEGIN:STANDARD
TZOFFSETFROM:+0200
TZOFFSETTO:+0100
TZNAME:CET
DTSTART:20241027T010000
END:STANDARD
BEGIN:DAYLIGHT
TZOFFSETFROM:+0100
TZOFFSETTO:+0200
TZNAME:CEST
DTSTART:20250330T010000
END:DAYLIGHT
BEGIN:STANDARD
TZOFFSETFROM:+0200
TZOFFSETTO:+0100
TZNAME:CET
DTSTART:20251026T010000
END:STANDARD
BEGIN:DAYLIGHT
TZOFFSETFROM:+0100
TZOFFSETTO:+0200
TZNAME:CEST
DTSTART:20260329T010000
END:DAYLIGHT
BEGIN:STANDARD
TZOFFSETFROM:+0200
TZOFFSETTO:+0100
TZNAME:CET
DTSTART:20261025T010000
END:STANDARD
END:VTIMEZONE
BEGIN:VEVENT
DTSTART;TZID=Europe/Berlin:20250831T110000
DTEND;TZID=Europe/Berlin:20251005T170000
DTSTAMP:20260420T213601
CREATED:20250823T132952Z
LAST-MODIFIED:20250918T174453Z
UID:1642-1756638000-1759683600@engelsart.de
SUMMARY:Ausstellung: "Dunkle Energie"
DESCRIPTION:Was treibt das Universum auseinander? Was hält uns als Gesellschaft zusammen – oder reißt uns innerlich entzwei? Die Ausstellung „Dunkle Energie“ im Alten Baumwolllager Engelskirchen\, Engels-Platz-6\,  nähert sich diesem vielschichtigen Phänomen aus zwei Richtungen: Aus der Perspektive der Naturwissenschaft\, in der Dunkle Energie als unsichtbare\, aber dominante Kraft das Universum beeinflusst – und aus einer gesellschaftlichen Perspektive\, in der unsichtbare Dynamiken wie Ausgrenzung\, Kontrolle\, Machtmissbrauch oder Angst das soziale Miteinander prägen. \n\n\n\nFotografie\, Malerei und Skulptur treten ein in einen Dialog mit wissenschaftlichen Konzepten und politischen Realitäten. Die gezeigten Arbeiten von zehn ENGELsART-Künstler*innen machen das Unsichtbare sichtbar – und fragen: Welche dunklen Energien wirken in uns\, zwischen uns\, über uns? \n\n\n\nVernissage: Sonntag\, 31. August 2025 – 11 – 13 Uhr  \n\n\n\ngeöffnet vom 31. August bis 05. Oktobermittwochs    17 – 19 Uhr samstags     15 – 17 Uhr (außer 13. Sep.) sonntags      11 – 13 Uhr und 15 – 17 Uhr (außer 14.\, 21. und 28. Sep.)Am 5.Oktober von 11 – 17 Uhr durchgehend geöffnet\, da Oldtimer- und Transportfest in Engelskirchen.
URL:https://engelsart.de/veranstaltung/ausstellung-dunkle-energie/
ATTACH;FMTTYPE=image/jpeg:https://engelsart.de/wp-content/uploads/2025/06/DE_EA_web-e1761587950481.jpg
END:VEVENT
BEGIN:VEVENT
DTSTART;TZID=Europe/Berlin:20251004T200000
DTEND;TZID=Europe/Berlin:20251004T230000
DTSTAMP:20260420T213601
CREATED:20250415T175038Z
LAST-MODIFIED:20250901T181406Z
UID:298-1759608000-1759618800@engelsart.de
SUMMARY:EA Jazz: "Claudia Sofia"
DESCRIPTION:Cláudia Sofia ist eine junge Sängerin und Gitarristin aus Mindelo (Kapverdische Inseln)\, Heimat der legendären Cesária Èvora und Talentschmiede einer Vielzahl von international bekannten Musikern. Bereits im Herbst 2024 absolvierte Cláudia eine vielbeachtete Tournee mit über 20 Konzerten in Portugal\, Deutschland und Österreich und verzauberte das Publikum mit ihrer glasklaren Stimme\, tollen eigenen Songs und einer hervorragenden Begleitband mit Lucio Vieira am Bass und Markus Leukel am Schlagzeug. 2025 wird auch ihre erste eigene CD (ausschließlich Eigenkompositionen) erscheinen. \n\n\n\nCláudias Lieder sind tief verwurzelt in der Musiktradition ihrer Kapverdischen Heimat\, gleichzeitig ist eine Offenheit für Elemente aus der brasilianischen und europäisch-amerikanischen Musikkultur bis hin zur klassischen Musik unverkennbar. Sie singt vom Leben und Lieben auf dem Inselarchipel vor der Küste Westafrikas\, auf dem sich in den vergangenen 500 Jahren eine einzigartige kreolische Kultur entwickelt hat. \n\n\n\nhttp://www.claudiasofiacv.com
URL:https://engelsart.de/veranstaltung/ea-jazz-claudia-sofia/
CATEGORIES:Konzert
ATTACH;FMTTYPE=image/png:https://engelsart.de/wp-content/uploads/2025/04/claudiasofia-e1761589607982.png
END:VEVENT
BEGIN:VEVENT
DTSTART;TZID=Europe/Berlin:20251011T193000
DTEND;TZID=Europe/Berlin:20251011T213000
DTSTAMP:20260420T213601
CREATED:20250901T182420Z
LAST-MODIFIED:20250901T182605Z
UID:1702-1760211000-1760218200@engelsart.de
SUMMARY:Mir zum 126. - Ein ganzes Leben
DESCRIPTION:JOACHIM  RINGELNATZ  GRATULIERT  ERICH  KÄSTNER  ZUM GEBURTSTAG \n\n\n\n– ein gesellschaftspolitisches Programm – \n\n\n\nZu Lebzeiten sind sich Ringelnatz (1883 – 1934) und Kästner (1899 – 1974) \n\n\n\nals Zeitgenossen einander nie begegnet. \n\n\n\nBeide Dichter zeigen mit scharfem Blick  gesellschaftspolitische Umbrüche \n\n\n\nihrer Zeit und beweisen sich gleichwohl auch als humorvoll – ironische Beobachter menschlicher Schwächen. \n\n\n\nIhre Gedichte\, Aphorismen und Geschichten spiegeln höchst literarisch\, fast vorahnend\, aber auch bestürzend erhellend die Aktualität der vielen Krisen in unserer heutigen Zeit. \n\n\n\nJOHANNES GÖBEL und  MARTIN MOCK „ gratulieren“  mit Rezitation und Gesang in einer virtuellen Begegnung dieser beiden Dichter Kästner zum Geburtstag.
URL:https://engelsart.de/veranstaltung/mir-zum-126-ein-ganzes-leben/
ATTACH;FMTTYPE=image/jpeg:https://engelsart.de/wp-content/uploads/2025/09/ringelnatz-e1761587836397.jpg
END:VEVENT
BEGIN:VEVENT
DTSTART;TZID=Europe/Berlin:20251018T193000
DTEND;TZID=Europe/Berlin:20251018T220000
DTSTAMP:20260420T213601
CREATED:20250901T183023Z
LAST-MODIFIED:20250901T183024Z
UID:1705-1760815800-1760824800@engelsart.de
SUMMARY:Heimweh - drei Frauen und Generationen auf der Reise im eigenen Land und in der  Fremde
DESCRIPTION:Heim Weh Mut \n\n\n\ndrei Frauen auf der Reise im eigenen Land und in der Fremde \n\n\n\nLebensgeschichten zum Lachen und Weinen\, Gesang und Klänge\, und  \n\n\n\nEssen mit dem Geschmack und Geruch nach Heimat  \n\n\n\nIch vermisse die Berührungen. \n\n\n\nEs gibt kein Zurück. \n\n\n\nEs ist eine Verbundenheit wie ein Gewebe  \n\n\n\nEine Landschaft. Der Geruch der Erde. \n\n\n\nDauer: 80 Minuten  \n\n\n\nmit Kristin Kunze\, Heike Bänsch & Fouzia Yousufi
URL:https://engelsart.de/veranstaltung/heimweh-drei-frauen-und-generationen-auf-der-reise-im-eigenen-land-und-in-der-fremde/
ATTACH;FMTTYPE=image/jpeg:https://engelsart.de/wp-content/uploads/2025/09/heimwehmut-e1761587828531.jpg
END:VEVENT
BEGIN:VEVENT
DTSTART;TZID=Europe/Berlin:20251025T193000
DTEND;TZID=Europe/Berlin:20251025T220000
DTSTAMP:20260420T213601
CREATED:20250901T183316Z
LAST-MODIFIED:20250904T100815Z
UID:1708-1761420600-1761429600@engelsart.de
SUMMARY:EA Jazz - Club  "Walbach"
DESCRIPTION:Akustik-Rock im Alten Baumwolllager \n\n\n\nIm Oktober ist die Band Walbach nach längerer Zeit mal wieder im Alten Baumwolllager zu Gast. \n\n\n\nDie fünf Musiker aus Engelskirchen\, Much und Köln spielen Lieder anderer Künstler und geben ihnen durch das nahezu akustische Line-up eine ganz eigene Handschrift und einen zeitlosen Charakter.  \n\n\n\nIm Alten Baumwollager gibt es unter anderem Cover von John Hiatt\, Sam Fender und Roachford zu hören. \n\n\n\nDaneben spielt Walbach eigene Stücke von Heinz Peters und Christoff Mager. \n\n\n\nDer Abend mit Walbach garantiert gute Laune\, wippende Füße\, sentimentale Momente und ein Lächeln auf dem Gesicht! \n\n\n\nWalbach sind: \n\n\n\nHeinz Peters (voc\, git\, harp) \n\n\n\nChristoff Mager (git\, voc) \n\n\n\nRoger Sauer (b) \n\n\n\nDominik Becker (dr) \n\n\n\nMarkus Koppen (p\, voc)
URL:https://engelsart.de/veranstaltung/ea-jazz-club-walbach/
ATTACH;FMTTYPE=image/jpeg:https://engelsart.de/wp-content/uploads/2025/09/Walbach_1-e1761587820600.jpg
END:VEVENT
END:VCALENDAR