BEGIN:VCALENDAR
VERSION:2.0
PRODID:-//ENGELsART  - ECPv6.15.17//NONSGML v1.0//EN
CALSCALE:GREGORIAN
METHOD:PUBLISH
X-WR-CALNAME:ENGELsART 
X-ORIGINAL-URL:https://engelsart.de
X-WR-CALDESC:Veranstaltungen für ENGELsART 
REFRESH-INTERVAL;VALUE=DURATION:PT1H
X-Robots-Tag:noindex
X-PUBLISHED-TTL:PT1H
BEGIN:VTIMEZONE
TZID:Europe/Berlin
BEGIN:DAYLIGHT
TZOFFSETFROM:+0100
TZOFFSETTO:+0200
TZNAME:CEST
DTSTART:20240331T010000
END:DAYLIGHT
BEGIN:STANDARD
TZOFFSETFROM:+0200
TZOFFSETTO:+0100
TZNAME:CET
DTSTART:20241027T010000
END:STANDARD
BEGIN:DAYLIGHT
TZOFFSETFROM:+0100
TZOFFSETTO:+0200
TZNAME:CEST
DTSTART:20250330T010000
END:DAYLIGHT
BEGIN:STANDARD
TZOFFSETFROM:+0200
TZOFFSETTO:+0100
TZNAME:CET
DTSTART:20251026T010000
END:STANDARD
BEGIN:DAYLIGHT
TZOFFSETFROM:+0100
TZOFFSETTO:+0200
TZNAME:CEST
DTSTART:20260329T010000
END:DAYLIGHT
BEGIN:STANDARD
TZOFFSETFROM:+0200
TZOFFSETTO:+0100
TZNAME:CET
DTSTART:20261025T010000
END:STANDARD
END:VTIMEZONE
BEGIN:VEVENT
DTSTART;TZID=Europe/Berlin:20250830T110000
DTEND;TZID=Europe/Berlin:20250830T140000
DTSTAMP:20260420T182037
CREATED:20250822T120028Z
LAST-MODIFIED:20250825T072922Z
UID:1423-1756551600-1756562400@engelsart.de
SUMMARY:Sketch-Crawl
DESCRIPTION:Über die Veranstaltung\n\n\n\nGemeinsam zeichnen\, lachen und staunen –in kleiner Gruppe mit wenig Aufwand \n\n\n\nBitte Zeichen- und/oder Malutensilien nach Wahl mitbringenHocker/ Schemel nicht vergessenAnschließend gehen wir noch irgendwo einen Kaffee trinken und tauschen uns über Kunst aus \n\n\n\nZeit & Ort\n\n\n\nSamstag\, 30.08.2025\, 11:00 – 13:00 \n\n\n\nbei trockenem Wetter: Haus Alsbach\, EngelskirchenTeilnahme kostenlosbei Regen: LVR-Industriemuseum Ermen & Engels\, Engelskirchen(Eintritt ins Museum zahlt jede/r selbst – evtl. Gruppentarif) \n\n\n\nReservierung unter info@engelsart.deKontaktdaten (Name und Telefonnummer) angeben
URL:https://engelsart.de/veranstaltung/scetch-scrawl/
CATEGORIES:Kunst-Ausblick,Treffen
ATTACH;FMTTYPE=image/jpeg:https://engelsart.de/wp-content/uploads/2025/07/formen-e1761587991342.jpg
END:VEVENT
BEGIN:VEVENT
DTSTART;TZID=Europe/Berlin:20250830T190000
DTEND;TZID=Europe/Berlin:20250830T220000
DTSTAMP:20260420T182037
CREATED:20250715T170008Z
LAST-MODIFIED:20250824T131851Z
UID:286-1756580400-1756591200@engelsart.de
SUMMARY:Wir sind ......DIE Räuber!
DESCRIPTION:Frei nach Schiller  \n\n\n\nEine OpenAir Inszenierung entlang eines Spaziergangs an besonderen Orten im Bergischen Land. Angelehnt an das Drama „Die Räuber“ von Friedrich Schiller\, der in diesem Jahr seinen 225. Todestag begeht\, werden auch unsere „Räuber“ das heutige Publikum gewaltig und spektakulär in den Bann ziehen. \n\n\n\nAm 30.8.  \n\n\n\nAm 30.8. direkt vor dem Alten Baumwolllager in Engelskirchen. \n\n\n\nAnmeldung unter: schiller@landblattgold.org
URL:https://engelsart.de/veranstaltung/wir-sind-die-raeuber/
CATEGORIES:Theater
ATTACH;FMTTYPE=image/jpeg:https://engelsart.de/wp-content/uploads/2025/08/raeuber-e1761587999332.jpg
END:VEVENT
BEGIN:VEVENT
DTSTART;TZID=Europe/Berlin:20250831T110000
DTEND;TZID=Europe/Berlin:20251005T170000
DTSTAMP:20260420T182037
CREATED:20250823T132952Z
LAST-MODIFIED:20250918T174453Z
UID:1642-1756638000-1759683600@engelsart.de
SUMMARY:Ausstellung: "Dunkle Energie"
DESCRIPTION:Was treibt das Universum auseinander? Was hält uns als Gesellschaft zusammen – oder reißt uns innerlich entzwei? Die Ausstellung „Dunkle Energie“ im Alten Baumwolllager Engelskirchen\, Engels-Platz-6\,  nähert sich diesem vielschichtigen Phänomen aus zwei Richtungen: Aus der Perspektive der Naturwissenschaft\, in der Dunkle Energie als unsichtbare\, aber dominante Kraft das Universum beeinflusst – und aus einer gesellschaftlichen Perspektive\, in der unsichtbare Dynamiken wie Ausgrenzung\, Kontrolle\, Machtmissbrauch oder Angst das soziale Miteinander prägen. \n\n\n\nFotografie\, Malerei und Skulptur treten ein in einen Dialog mit wissenschaftlichen Konzepten und politischen Realitäten. Die gezeigten Arbeiten von zehn ENGELsART-Künstler*innen machen das Unsichtbare sichtbar – und fragen: Welche dunklen Energien wirken in uns\, zwischen uns\, über uns? \n\n\n\nVernissage: Sonntag\, 31. August 2025 – 11 – 13 Uhr  \n\n\n\ngeöffnet vom 31. August bis 05. Oktobermittwochs    17 – 19 Uhr samstags     15 – 17 Uhr (außer 13. Sep.) sonntags      11 – 13 Uhr und 15 – 17 Uhr (außer 14.\, 21. und 28. Sep.)Am 5.Oktober von 11 – 17 Uhr durchgehend geöffnet\, da Oldtimer- und Transportfest in Engelskirchen.
URL:https://engelsart.de/veranstaltung/ausstellung-dunkle-energie/
ATTACH;FMTTYPE=image/jpeg:https://engelsart.de/wp-content/uploads/2025/06/DE_EA_web-e1761587950481.jpg
END:VEVENT
BEGIN:VEVENT
DTSTART;TZID=Europe/Berlin:20250831T190000
DTEND;TZID=Europe/Berlin:20250831T220000
DTSTAMP:20260420T182037
CREATED:20250715T193616Z
LAST-MODIFIED:20250824T131944Z
UID:1420-1756666800-1756677600@engelsart.de
SUMMARY:Wir sind.......     DIE Räuber
DESCRIPTION:Frei nach Schiller  \n\n\n\nEine OpenAir Inszenierung entlang eines Spaziergangs an besonderen Orten im Bergischen Land. Angelehnt an das Drama „Die Räuber“ von Friedrich Schiller\, der in diesem Jahr seinen 225. Todestag begeht\, werden auch unsere „Räuber“ das heutige Publikum gewaltig und spektakulär in den Bann ziehen. \n\n\n\nAm 31.8. direkt vor dem Alten Baumwolllager in Engelskirchen. \n\n\n\nAnmeldung unter: schiller@landblattgold.org
URL:https://engelsart.de/veranstaltung/wir-sind-die-raeuber-2/
ATTACH;FMTTYPE=image/jpeg:https://engelsart.de/wp-content/uploads/2025/08/raeuber-e1761587999332.jpg
END:VEVENT
END:VCALENDAR