BEGIN:VCALENDAR
VERSION:2.0
PRODID:-//ENGELsART  - ECPv6.15.17//NONSGML v1.0//EN
CALSCALE:GREGORIAN
METHOD:PUBLISH
X-ORIGINAL-URL:https://engelsart.de
X-WR-CALDESC:Veranstaltungen für ENGELsART 
REFRESH-INTERVAL;VALUE=DURATION:PT1H
X-Robots-Tag:noindex
X-PUBLISHED-TTL:PT1H
BEGIN:VTIMEZONE
TZID:Europe/Berlin
BEGIN:DAYLIGHT
TZOFFSETFROM:+0100
TZOFFSETTO:+0200
TZNAME:CEST
DTSTART:20240331T010000
END:DAYLIGHT
BEGIN:STANDARD
TZOFFSETFROM:+0200
TZOFFSETTO:+0100
TZNAME:CET
DTSTART:20241027T010000
END:STANDARD
BEGIN:DAYLIGHT
TZOFFSETFROM:+0100
TZOFFSETTO:+0200
TZNAME:CEST
DTSTART:20250330T010000
END:DAYLIGHT
BEGIN:STANDARD
TZOFFSETFROM:+0200
TZOFFSETTO:+0100
TZNAME:CET
DTSTART:20251026T010000
END:STANDARD
BEGIN:DAYLIGHT
TZOFFSETFROM:+0100
TZOFFSETTO:+0200
TZNAME:CEST
DTSTART:20260329T010000
END:DAYLIGHT
BEGIN:STANDARD
TZOFFSETFROM:+0200
TZOFFSETTO:+0100
TZNAME:CET
DTSTART:20261025T010000
END:STANDARD
END:VTIMEZONE
BEGIN:VEVENT
DTSTART;TZID=Europe/Berlin:20250520T193000
DTEND;TZID=Europe/Berlin:20250520T220000
DTSTAMP:20260420T201935
CREATED:20250517T175529Z
LAST-MODIFIED:20250721T094614Z
UID:646-1747769400-1747778400@engelsart.de
SUMMARY:Stammtisch für bildende Künstler/innen
DESCRIPTION:
URL:https://engelsart.de/veranstaltung/stammtisch-fuer-bildende-kuenstler-3/
CATEGORIES:Stammtisch
ATTACH;FMTTYPE=image/jpeg:https://engelsart.de/wp-content/uploads/2025/04/stammtisch.jpg
END:VEVENT
BEGIN:VEVENT
DTSTART;TZID=Europe/Berlin:20250524T193000
DTEND;TZID=Europe/Berlin:20250524T213000
DTSTAMP:20260420T201935
CREATED:20250517T174943Z
LAST-MODIFIED:20250517T180819Z
UID:641-1748115000-1748122200@engelsart.de
SUMMARY:Konzertlesung
DESCRIPTION: „In meinen Träumen läutet es Sturm“.                                  \n\n\n\n  Über das Leben und die Liebe der jüdischen Dichterin Mascha Kaléko.“ \n\n\n\nDie Autorin\, Malerin und Germanistin Sabine Wallefeld liest Lyrik der jüdischen Dichterin. Sie verbindet dabei Dichtung und Leben Mascha Kalékos. Ein bewegtes Leben zwischen den Stürmen der Geschichte\, der Flucht vor den Nationalsozialisten\, den Wirren der Liebe und dem Ruf der Kunst. Begleitet wird sie von der zypriotischen Pianistin Athina Poullidou.
URL:https://engelsart.de/veranstaltung/konzertlesung/
CATEGORIES:Lesung
ATTACH;FMTTYPE=image/jpeg:https://engelsart.de/wp-content/uploads/2025/05/9783423346719__COVER_2D-Produktcover-Web-klein_1920x1920-e1761589465891.jpg
END:VEVENT
END:VCALENDAR